BEGIN:VCALENDAR
VERSION:2.0
PRODID:-//ChamberMaster//Event Calendar 2.0//EN
METHOD:PUBLISH
X-PUBLISHED-TTL:P3D
REFRESH-INTERVAL:P3D
CALSCALE:GREGORIAN
BEGIN:VEVENT
DTSTART:20220127T230000Z
DTEND:20220128T020000Z
X-MICROSOFT-CDO-ALLDAYEVENT:FALSE
SUMMARY:Annual Dinner & Awards Gala for RACC
DESCRIPTION:January 27\, 2022: The Pines Event Center\n\nJoin us to celebrate a successful year that was made possible by you\, our Members. Doors open at 5pm with heavy appetizers\, drinks\, silent auctions and raffles. Program and Awards Ceremony begins at 6:30pm. Hit the red carpet in style! Formal attire encouraged. *Please remember only a max of 250 tickets are available for this event. \n\n\n\nAwards\n\nEach year the Rhinelander Area Chamber of Commerce (RACC) celebrates area businesses and individuals for their impact on the Rhinelander Community at their Annual Awards Gala. The purpose of these awards is to identify\, honor and reinforce the contributions that are positively impacting the Rhinelander Area. \n\n\n\nThe 8 award categories are:\n\n	Small Business Excellence Award\n	Business Excellence Award\n	Community Service Award\n	Community Enhancement Award\n	Company Culture Excellence Award\n	Entrepreneurial Achievement Award\n	Community Volunteer of the Year\n	Spirit of the Hodag Award\n\n \n\n\n\nWays Our Members Can Participate\n\nSilent Auction & Raffle Items: \n\nDo you have season tickets to a Packers game and would like to donate just one game of this season? Or perhaps you make the best cookies on the block and would donate a dozen a month to the highest bidder. We are hoping you will share your talents with other Members of the Chamber!
X-ALT-DESC;FMTTYPE=text/html:<strong><em><u>January 27\, 2022: The Pines Event Center</u></em></strong><br />\nJoin us to celebrate a successful year that was made possible by you\, our Members. Doors open at 5pm with heavy appetizers\, drinks\, silent auctions and raffles. Program and Awards Ceremony begins at 6:30pm. Hit the red carpet in style! Formal attire encouraged. *Please remember only a max of 250 tickets are available for this event.&nbsp\;<br />\n<br />\n<u>Awards</u><br />\nEach year the Rhinelander Area Chamber of Commerce (RACC) celebrates area businesses and individuals for their impact on the Rhinelander Community at their Annual Awards Gala. The purpose of these awards is to identify\, honor and reinforce the contributions that are positively impacting the Rhinelander Area.&nbsp\;<br />\n<br />\nThe 8 award categories are:\n<ul>\n	<li>Small Business Excellence Award</li>\n	<li>Business Excellence Award</li>\n	<li>Community Service Award</li>\n	<li>Community Enhancement Award</li>\n	<li>Company Culture Excellence Award</li>\n	<li>Entrepreneurial Achievement Award</li>\n	<li>Community Volunteer of the Year</li>\n	<li>Spirit of the Hodag Award</li>\n</ul>\n&nbsp\;<br />\n<br />\n<u>Ways Our Members Can Participate</u><br />\nSilent Auction &amp\; Raffle Items:&nbsp\;<br />\nDo you have season tickets to a Packers game and would like to donate just one game of this season? Or perhaps you make the best cookies on the block and would donate a dozen a month to the highest bidder. We are hoping you will share your talents with other Members of the Chamber!
LOCATION:The Pines Event Center 5840 Forest Lane Rhinelander
UID:e.2707.9950
SEQUENCE:3
DTSTAMP:20260420T014527Z
URL:http://explorerhinelanderwi.chambermaster.com/events/details/annual-dinner-awards-gala-for-racc-9950
END:VEVENT

END:VCALENDAR
