BEGIN:VCALENDAR
VERSION:2.0
PRODID:-//ChamberMaster//Event Calendar 2.0//EN
METHOD:PUBLISH
X-PUBLISHED-TTL:P3D
REFRESH-INTERVAL:P3D
CALSCALE:GREGORIAN
BEGIN:VEVENT
DTSTART:20291128T160000Z
DTEND:20291128T173000Z
X-MICROSOFT-CDO-ALLDAYEVENT:FALSE
SUMMARY:BINGO!
DESCRIPTION:Come join our Bingo Game!
X-ALT-DESC;FMTTYPE=text/html:Come join our Bingo Game!
LOCATION:Aging & Disability Resource Center (ADRC) 100 W Keenan St\, Rhinelander
UID:e.2707.16402
SEQUENCE:3
DTSTAMP:20260426T013052Z
URL:http://explorerhinelanderwi.chambermaster.com/events/details/bingo-11-28-2029-16402
END:VEVENT

END:VCALENDAR
