BEGIN:VCALENDAR
VERSION:2.0
PRODID:-//ChamberMaster//Event Calendar 2.0//EN
METHOD:PUBLISH
X-PUBLISHED-TTL:P3D
REFRESH-INTERVAL:P3D
CALSCALE:GREGORIAN
BEGIN:VEVENT
DTSTART:20290926T000000Z
DTEND:20290926T013000Z
X-MICROSOFT-CDO-ALLDAYEVENT:FALSE
SUMMARY:In Progress
DESCRIPTION:In Progress\, presented by ArtStart and WXPR and hosted by Nate Sheppard\, is a unique open mic art sharing event where participants are encouraged to share something they're working on in any stage of the process (hence the name "In Progress").\n\nJoin us at The Hilgermann Center for Community in downtown Rhinelander at 7PM on the last Tuesday of every month and show us what you're up to! Whether a song\, a poem\, a painting\, anything is welcome and you will not find a more supportive group. We can't wait to hear and see what you have been creating!\n\nAll ages are welcome! Sign up for a slot here: https://www.thehilgermann.com/inprogress
X-ALT-DESC;FMTTYPE=text/html:In Progress\, presented by ArtStart and WXPR and hosted by Nate Sheppard\, is a unique open mic art sharing event where participants are encouraged to share something they&#39\;re working on in any stage of the process (hence the name &quot\;In Progress&quot\;).<br />\nJoin us at The Hilgermann Center for Community in downtown Rhinelander at 7PM on the last Tuesday of every month and show us what you&#39\;re up to! Whether a song\, a poem\, a painting\, anything is welcome and you will not find a more supportive group. We can&#39\;t wait to hear and see what you have been creating!<br />\nAll ages are welcome! Sign up for a slot here: <a href="http://www.thehilgermann.com/inprogress?fbclid=IwZXh0bgNhZW0CMTAAYnJpZBExRWFVRFM2bzNhR1NFa3hiTAEeaEX51mj8GcBns8v6EPtOBNwclvJ0ThzI27p6vdGkqlm1htChcWu8WNiPmNU_aem_yZEeWMtxxl2dDD-iBB6bxQ">https://www.thehilgermann.com/inprogress</a>
LOCATION:The Hilgermann Center for Community 25 S Brown St\, Rhinelander
UID:e.2707.17195
SEQUENCE:3
DTSTAMP:20260423T032155Z
URL:http://explorerhinelanderwi.chambermaster.com/events/details/in-progress-09-25-2029-17195
END:VEVENT

END:VCALENDAR
