BEGIN:VCALENDAR
VERSION:2.0
PRODID:-//ChamberMaster//Event Calendar 2.0//EN
METHOD:PUBLISH
X-PUBLISHED-TTL:P3D
REFRESH-INTERVAL:P3D
CALSCALE:GREGORIAN
BEGIN:VEVENT
DTSTART:20260501T220000Z
DTEND:20260501T230000Z
X-MICROSOFT-CDO-ALLDAYEVENT:FALSE
SUMMARY:Workers over Billionaires
DESCRIPTION:National May Day Rally to support of workers and to protest the growing wealth inequality in the country.
X-ALT-DESC;FMTTYPE=text/html:National May Day Rally to support of workers and to protest the growing wealth inequality in the country.
LOCATION:Pioneer Park\, Kemp and Oneida Streets\, Rhinelander
UID:e.2707.18709
SEQUENCE:3
DTSTAMP:20260423T052702Z
URL:http://explorerhinelanderwi.chambermaster.com/events/details/workers-over-billionaires-18709
END:VEVENT

END:VCALENDAR
